BEGIN:VCALENDAR
VERSION:2.0
PRODID:-//Freiwillige Feuerwehr Dornstadt - ECPv6.15.14//NONSGML v1.0//EN
CALSCALE:GREGORIAN
METHOD:PUBLISH
X-WR-CALNAME:Freiwillige Feuerwehr Dornstadt
X-ORIGINAL-URL:https://www.ffw-dornstadt.de
X-WR-CALDESC:Veranstaltungen für Freiwillige Feuerwehr Dornstadt
REFRESH-INTERVAL;VALUE=DURATION:PT1H
X-Robots-Tag:noindex
X-PUBLISHED-TTL:PT1H
BEGIN:VTIMEZONE
TZID:Europe/Berlin
BEGIN:DAYLIGHT
TZOFFSETFROM:+0100
TZOFFSETTO:+0200
TZNAME:CEST
DTSTART:20210328T010000
END:DAYLIGHT
BEGIN:STANDARD
TZOFFSETFROM:+0200
TZOFFSETTO:+0100
TZNAME:CET
DTSTART:20211031T010000
END:STANDARD
BEGIN:DAYLIGHT
TZOFFSETFROM:+0100
TZOFFSETTO:+0200
TZNAME:CEST
DTSTART:20220327T010000
END:DAYLIGHT
BEGIN:STANDARD
TZOFFSETFROM:+0200
TZOFFSETTO:+0100
TZNAME:CET
DTSTART:20221030T010000
END:STANDARD
BEGIN:DAYLIGHT
TZOFFSETFROM:+0100
TZOFFSETTO:+0200
TZNAME:CEST
DTSTART:20230326T010000
END:DAYLIGHT
BEGIN:STANDARD
TZOFFSETFROM:+0200
TZOFFSETTO:+0100
TZNAME:CET
DTSTART:20231029T010000
END:STANDARD
END:VTIMEZONE
BEGIN:VEVENT
DTSTART;TZID=Europe/Berlin:20220911T084500
DTEND;TZID=Europe/Berlin:20220911T180000
DTSTAMP:20260422T232228
CREATED:20220713T140029Z
LAST-MODIFIED:20220719T083934Z
UID:14189-1662885900-1662919200@www.ffw-dornstadt.de
SUMMARY:Helferfest
DESCRIPTION:Liebe Kameradinnen\, Kameraden\, \nJugendfeuerwehr und Familienangehörige\, \ndie Feuerwehr Dornstadt lädt Dich/Euch am 11. September 2022 zum gemeinsamen Helferfest ein. Nach den arbeitsreichen vergangenen Monaten rund um die Fertigstellung des Feuerwehrhauses\, der Beschaffung des Wechselladerfahrzeugs\, der Einweihungsfeier und nicht zu vergessen dem zusätzlichen Feuerwehrdienst\, ist es Zeit „DANKE“ zu sagen. \nWir beginnen mit einer kleinen Wanderung auf die Nordalb bei Deggingen und treffen uns hierzu um 8:45 Uhr am Feuerwehrhaus. Abfahrt ist um 9:00 Uhr. WICHTIG: Gutes Schuhwerk! \nNach der Rückkehr um circa 13:00 Uhr erwartet euch das Mittagessen\, welches wir bei einem Catering bestellt haben. \nAlle Nicht-Wanderer treffen sich einfach schon um 11:30 Uhr am Feuerwehrhaus und unterstützen tatkräftig beim Aufbau für das Mittagessen. \nAuf einen schönen Tag mit Euch freut sich der Feuerwehrausschuss! \n  \nDamit besser organisiert werden kann\, bitten wir Dich/Euch unserem Kommandant Reiner Mieroff bis zum 30.07.2022 eine Rückmeldung zu geben. Gebt bitte auch an\, ob ihr beim Wandern dabei seid oder nicht.
URL:https://www.ffw-dornstadt.de/termin/helferfest/
LOCATION:Feuerwehrhaus Dornstadt\, St.-Florian-Weg 2\, Dornstadt\, 89160\, Deutschland
CATEGORIES:Intern
END:VEVENT
END:VCALENDAR