BEGIN:VCALENDAR
VERSION:2.0
PRODID:-//Freiwillige Feuerwehr Dornstadt - ECPv6.15.14//NONSGML v1.0//EN
CALSCALE:GREGORIAN
METHOD:PUBLISH
X-ORIGINAL-URL:https://www.ffw-dornstadt.de
X-WR-CALDESC:Veranstaltungen für Freiwillige Feuerwehr Dornstadt
REFRESH-INTERVAL;VALUE=DURATION:PT1H
X-Robots-Tag:noindex
X-PUBLISHED-TTL:PT1H
BEGIN:VTIMEZONE
TZID:Europe/Berlin
BEGIN:DAYLIGHT
TZOFFSETFROM:+0100
TZOFFSETTO:+0200
TZNAME:CEST
DTSTART:20210328T010000
END:DAYLIGHT
BEGIN:STANDARD
TZOFFSETFROM:+0200
TZOFFSETTO:+0100
TZNAME:CET
DTSTART:20211031T010000
END:STANDARD
BEGIN:DAYLIGHT
TZOFFSETFROM:+0100
TZOFFSETTO:+0200
TZNAME:CEST
DTSTART:20220327T010000
END:DAYLIGHT
BEGIN:STANDARD
TZOFFSETFROM:+0200
TZOFFSETTO:+0100
TZNAME:CET
DTSTART:20221030T010000
END:STANDARD
BEGIN:DAYLIGHT
TZOFFSETFROM:+0100
TZOFFSETTO:+0200
TZNAME:CEST
DTSTART:20230326T010000
END:DAYLIGHT
BEGIN:STANDARD
TZOFFSETFROM:+0200
TZOFFSETTO:+0100
TZNAME:CET
DTSTART:20231029T010000
END:STANDARD
END:VTIMEZONE
BEGIN:VEVENT
DTSTART;TZID=Europe/Berlin:20221126T190000
DTEND;TZID=Europe/Berlin:20221126T230000
DTSTAMP:20260422T203813
CREATED:20221028T092711Z
LAST-MODIFIED:20221028T092954Z
UID:14321-1669489200-1669503600@www.ffw-dornstadt.de
SUMMARY:Weihnachtsfeier
DESCRIPTION:Dieses Jahr ist es wieder soweit und wir laden Euch mit Eurem Partner / Eurer Partnerin herzlich zur Weihnachtsfeier am 26. November 2022 um 19 Uhr ins Feuerwehrhaus ein. \nBitte meldet euch bis spätestens 13. November 2022\, ob ihr alleine oder mit Begleitung teilnehmt: \nBei Reiner telefonisch oder per E-Mail:               kommandant-dornstadt(Replace this parenthesis with the @ sign)ffw-dornstadt.de
URL:https://www.ffw-dornstadt.de/termin/weihnachtsfeier/
LOCATION:Feuerwehrhaus Dornstadt\, St.-Florian-Weg 2\, Dornstadt\, 89160\, Deutschland
CATEGORIES:Intern
ATTACH;FMTTYPE=image/jpeg:https://www.ffw-dornstadt.de/wp-content/uploads/inhalte/inhalte/neuigkeiten/2022_weihnachtsfeier-scaled.jpg
END:VEVENT
END:VCALENDAR