BEGIN:VCALENDAR
VERSION:2.0
PRODID:-//Freiwillige Feuerwehr Dornstadt - ECPv6.15.14//NONSGML v1.0//EN
CALSCALE:GREGORIAN
METHOD:PUBLISH
X-ORIGINAL-URL:https://www.ffw-dornstadt.de
X-WR-CALDESC:Veranstaltungen für Freiwillige Feuerwehr Dornstadt
REFRESH-INTERVAL;VALUE=DURATION:PT1H
X-Robots-Tag:noindex
X-PUBLISHED-TTL:PT1H
BEGIN:VTIMEZONE
TZID:Europe/Berlin
BEGIN:DAYLIGHT
TZOFFSETFROM:+0100
TZOFFSETTO:+0200
TZNAME:CEST
DTSTART:20220327T010000
END:DAYLIGHT
BEGIN:STANDARD
TZOFFSETFROM:+0200
TZOFFSETTO:+0100
TZNAME:CET
DTSTART:20221030T010000
END:STANDARD
BEGIN:DAYLIGHT
TZOFFSETFROM:+0100
TZOFFSETTO:+0200
TZNAME:CEST
DTSTART:20230326T010000
END:DAYLIGHT
BEGIN:STANDARD
TZOFFSETFROM:+0200
TZOFFSETTO:+0100
TZNAME:CET
DTSTART:20231029T010000
END:STANDARD
BEGIN:DAYLIGHT
TZOFFSETFROM:+0100
TZOFFSETTO:+0200
TZNAME:CEST
DTSTART:20240331T010000
END:DAYLIGHT
BEGIN:STANDARD
TZOFFSETFROM:+0200
TZOFFSETTO:+0100
TZNAME:CET
DTSTART:20241027T010000
END:STANDARD
END:VTIMEZONE
BEGIN:VEVENT
DTSTART;TZID=Europe/Berlin:20230203T200000
DTEND;TZID=Europe/Berlin:20230203T220000
DTSTAMP:20260422T163316
CREATED:20230111T090233Z
LAST-MODIFIED:20230111T090233Z
UID:14993-1675454400-1675461600@www.ffw-dornstadt.de
SUMMARY:Übung Gruppe 1
DESCRIPTION:Löschangriff / Atemschutznotfall / BMA
URL:https://www.ffw-dornstadt.de/termin/uebung-gruppe-1-9/
LOCATION:Feuerwehrhaus Dornstadt\, St.-Florian-Weg 2\, Dornstadt\, 89160\, Deutschland
CATEGORIES:Übung
END:VEVENT
BEGIN:VEVENT
DTSTART;TZID=Europe/Berlin:20230210T200000
DTEND;TZID=Europe/Berlin:20230210T220000
DTSTAMP:20260422T163316
CREATED:20230111T090735Z
LAST-MODIFIED:20230111T090735Z
UID:14997-1676059200-1676066400@www.ffw-dornstadt.de
SUMMARY:Übung Gruppe 2
DESCRIPTION:Löschangriff / Atemschutznotfall / BMA
URL:https://www.ffw-dornstadt.de/termin/uebung-gruppe-2-8/
LOCATION:Feuerwehrhaus Dornstadt\, St.-Florian-Weg 2\, Dornstadt\, 89160\, Deutschland
CATEGORIES:Übung
END:VEVENT
BEGIN:VEVENT
DTSTART;TZID=Europe/Berlin:20230217T200000
DTEND;TZID=Europe/Berlin:20230217T220000
DTSTAMP:20260422T163316
CREATED:20230111T090819Z
LAST-MODIFIED:20230111T090819Z
UID:15001-1676664000-1676671200@www.ffw-dornstadt.de
SUMMARY:Übung Gruppe 3
DESCRIPTION:Löschangriff / Atemschutznotfall / BMA
URL:https://www.ffw-dornstadt.de/termin/uebung-gruppe-3-13/
LOCATION:Feuerwehrhaus Dornstadt\, St.-Florian-Weg 2\, Dornstadt\, 89160\, Deutschland
CATEGORIES:Übung
END:VEVENT
END:VCALENDAR