BEGIN:VCALENDAR
VERSION:2.0
PRODID:-//Freiwillige Feuerwehr Dornstadt - ECPv6.15.14//NONSGML v1.0//EN
CALSCALE:GREGORIAN
METHOD:PUBLISH
X-WR-CALNAME:Freiwillige Feuerwehr Dornstadt
X-ORIGINAL-URL:https://www.ffw-dornstadt.de
X-WR-CALDESC:Veranstaltungen für Freiwillige Feuerwehr Dornstadt
REFRESH-INTERVAL;VALUE=DURATION:PT1H
X-Robots-Tag:noindex
X-PUBLISHED-TTL:PT1H
BEGIN:VTIMEZONE
TZID:Europe/Berlin
BEGIN:DAYLIGHT
TZOFFSETFROM:+0100
TZOFFSETTO:+0200
TZNAME:CEST
DTSTART:20220327T010000
END:DAYLIGHT
BEGIN:STANDARD
TZOFFSETFROM:+0200
TZOFFSETTO:+0100
TZNAME:CET
DTSTART:20221030T010000
END:STANDARD
BEGIN:DAYLIGHT
TZOFFSETFROM:+0100
TZOFFSETTO:+0200
TZNAME:CEST
DTSTART:20230326T010000
END:DAYLIGHT
BEGIN:STANDARD
TZOFFSETFROM:+0200
TZOFFSETTO:+0100
TZNAME:CET
DTSTART:20231029T010000
END:STANDARD
BEGIN:DAYLIGHT
TZOFFSETFROM:+0100
TZOFFSETTO:+0200
TZNAME:CEST
DTSTART:20240331T010000
END:DAYLIGHT
BEGIN:STANDARD
TZOFFSETFROM:+0200
TZOFFSETTO:+0100
TZNAME:CET
DTSTART:20241027T010000
END:STANDARD
END:VTIMEZONE
BEGIN:VEVENT
DTSTART;TZID=Europe/Berlin:20230303T200000
DTEND;TZID=Europe/Berlin:20230303T220000
DTSTAMP:20260422T151833
CREATED:20230111T090845Z
LAST-MODIFIED:20230111T090845Z
UID:15005-1677873600-1677880800@www.ffw-dornstadt.de
SUMMARY:Übung Gruppe 1
DESCRIPTION:Löschangriff – innen/außen
URL:https://www.ffw-dornstadt.de/termin/uebung-gruppe-1-12/
LOCATION:Feuerwehrhaus Dornstadt\, St.-Florian-Weg 2\, Dornstadt\, 89160\, Deutschland
CATEGORIES:Übung
END:VEVENT
BEGIN:VEVENT
DTSTART;TZID=Europe/Berlin:20230306T193000
DTEND;TZID=Europe/Berlin:20230306T220000
DTSTAMP:20260422T151833
CREATED:20230303T080759Z
LAST-MODIFIED:20230303T080759Z
UID:15401-1678131000-1678140000@www.ffw-dornstadt.de
SUMMARY:Übung Atemschutzgeräteträger
DESCRIPTION:Übung für Atemschutzgeräteträger.
URL:https://www.ffw-dornstadt.de/termin/uebung-atemschutzgeraetetraeger-2/
LOCATION:Feuerwehrhaus Dornstadt\, St.-Florian-Weg 2\, Dornstadt\, 89160\, Deutschland
CATEGORIES:Atemschutzgeräteträger,Übung
END:VEVENT
BEGIN:VEVENT
DTSTART;TZID=Europe/Berlin:20230310T200000
DTEND;TZID=Europe/Berlin:20230310T220000
DTSTAMP:20260422T151833
CREATED:20230111T090857Z
LAST-MODIFIED:20230111T090857Z
UID:15009-1678478400-1678485600@www.ffw-dornstadt.de
SUMMARY:Übung Gruppe 2
DESCRIPTION:Löschangriff – innen/außen
URL:https://www.ffw-dornstadt.de/termin/uebung-gruppe-2-9/
LOCATION:Feuerwehrhaus Dornstadt\, St.-Florian-Weg 2\, Dornstadt\, 89160\, Deutschland
CATEGORIES:Übung
END:VEVENT
BEGIN:VEVENT
DTSTART;TZID=Europe/Berlin:20230317T200000
DTEND;TZID=Europe/Berlin:20230317T220000
DTSTAMP:20260422T151833
CREATED:20230111T090802Z
LAST-MODIFIED:20230111T090802Z
UID:15013-1679083200-1679090400@www.ffw-dornstadt.de
SUMMARY:Übung Gruppe 3
DESCRIPTION:Löschangriff – innen/außen
URL:https://www.ffw-dornstadt.de/termin/uebung-gruppe-3-12/
LOCATION:Feuerwehrhaus Dornstadt\, St.-Florian-Weg 2\, Dornstadt\, 89160\, Deutschland
CATEGORIES:Übung
END:VEVENT
BEGIN:VEVENT
DTSTART;TZID=Europe/Berlin:20230324T200000
DTEND;TZID=Europe/Berlin:20230324T220000
DTSTAMP:20260422T151833
CREATED:20230111T090750Z
LAST-MODIFIED:20230314T133942Z
UID:15021-1679688000-1679695200@www.ffw-dornstadt.de
SUMMARY:Übung Gruppe 1
DESCRIPTION:Löschangriff – innen/außen
URL:https://www.ffw-dornstadt.de/termin/uebung-gruppe-1-10/
LOCATION:Feuerwehrhaus Dornstadt\, St.-Florian-Weg 2\, Dornstadt\, 89160\, Deutschland
CATEGORIES:Übung
END:VEVENT
END:VCALENDAR