BEGIN:VCALENDAR
VERSION:2.0
PRODID:-//Freiwillige Feuerwehr Dornstadt - ECPv6.15.14//NONSGML v1.0//EN
CALSCALE:GREGORIAN
METHOD:PUBLISH
X-ORIGINAL-URL:https://www.ffw-dornstadt.de
X-WR-CALDESC:Veranstaltungen für Freiwillige Feuerwehr Dornstadt
REFRESH-INTERVAL;VALUE=DURATION:PT1H
X-Robots-Tag:noindex
X-PUBLISHED-TTL:PT1H
BEGIN:VTIMEZONE
TZID:Europe/Berlin
BEGIN:DAYLIGHT
TZOFFSETFROM:+0100
TZOFFSETTO:+0200
TZNAME:CEST
DTSTART:20220327T010000
END:DAYLIGHT
BEGIN:STANDARD
TZOFFSETFROM:+0200
TZOFFSETTO:+0100
TZNAME:CET
DTSTART:20221030T010000
END:STANDARD
BEGIN:DAYLIGHT
TZOFFSETFROM:+0100
TZOFFSETTO:+0200
TZNAME:CEST
DTSTART:20230326T010000
END:DAYLIGHT
BEGIN:STANDARD
TZOFFSETFROM:+0200
TZOFFSETTO:+0100
TZNAME:CET
DTSTART:20231029T010000
END:STANDARD
BEGIN:DAYLIGHT
TZOFFSETFROM:+0100
TZOFFSETTO:+0200
TZNAME:CEST
DTSTART:20240331T010000
END:DAYLIGHT
BEGIN:STANDARD
TZOFFSETFROM:+0200
TZOFFSETTO:+0100
TZNAME:CET
DTSTART:20241027T010000
END:STANDARD
END:VTIMEZONE
BEGIN:VEVENT
DTSTART;TZID=Europe/Berlin:20230414T200000
DTEND;TZID=Europe/Berlin:20230414T220000
DTSTAMP:20260422T140603
CREATED:20230111T090908Z
LAST-MODIFIED:20230111T090908Z
UID:15045-1681502400-1681509600@www.ffw-dornstadt.de
SUMMARY:Übung Gruppe 2
DESCRIPTION:Löschangriff – innen/außen
URL:https://www.ffw-dornstadt.de/termin/uebung-gruppe-2-10/
LOCATION:Feuerwehrhaus Dornstadt\, St.-Florian-Weg 2\, Dornstadt\, 89160\, Deutschland
CATEGORIES:Übung
END:VEVENT
BEGIN:VEVENT
DTSTART;TZID=Europe/Berlin:20230421T200000
DTEND;TZID=Europe/Berlin:20230421T220000
DTSTAMP:20260422T140603
CREATED:20230111T090650Z
LAST-MODIFIED:20230111T090650Z
UID:15049-1682107200-1682114400@www.ffw-dornstadt.de
SUMMARY:Übung Gruppe 3
DESCRIPTION:Löschangriff – innen/außen
URL:https://www.ffw-dornstadt.de/termin/uebung-gruppe-3-10/
LOCATION:Feuerwehrhaus Dornstadt\, St.-Florian-Weg 2\, Dornstadt\, 89160\, Deutschland
CATEGORIES:Übung
END:VEVENT
BEGIN:VEVENT
DTSTART;TZID=Europe/Berlin:20230428T200000
DTEND;TZID=Europe/Berlin:20230428T220000
DTSTAMP:20260422T140603
CREATED:20230111T090453Z
LAST-MODIFIED:20230111T090459Z
UID:15053-1682712000-1682719200@www.ffw-dornstadt.de
SUMMARY:Zugübung
DESCRIPTION:Löschangriff – innen/außen
URL:https://www.ffw-dornstadt.de/termin/zuguebung/
LOCATION:Feuerwehrhaus Dornstadt\, St.-Florian-Weg 2\, Dornstadt\, 89160\, Deutschland
CATEGORIES:Zugübung
END:VEVENT
END:VCALENDAR