BEGIN:VCALENDAR
VERSION:2.0
PRODID:-//Freiwillige Feuerwehr Dornstadt - ECPv6.15.14//NONSGML v1.0//EN
CALSCALE:GREGORIAN
METHOD:PUBLISH
X-WR-CALNAME:Freiwillige Feuerwehr Dornstadt
X-ORIGINAL-URL:https://www.ffw-dornstadt.de
X-WR-CALDESC:Veranstaltungen für Freiwillige Feuerwehr Dornstadt
REFRESH-INTERVAL;VALUE=DURATION:PT1H
X-Robots-Tag:noindex
X-PUBLISHED-TTL:PT1H
BEGIN:VTIMEZONE
TZID:Europe/Berlin
BEGIN:DAYLIGHT
TZOFFSETFROM:+0100
TZOFFSETTO:+0200
TZNAME:CEST
DTSTART:20220327T010000
END:DAYLIGHT
BEGIN:STANDARD
TZOFFSETFROM:+0200
TZOFFSETTO:+0100
TZNAME:CET
DTSTART:20221030T010000
END:STANDARD
BEGIN:DAYLIGHT
TZOFFSETFROM:+0100
TZOFFSETTO:+0200
TZNAME:CEST
DTSTART:20230326T010000
END:DAYLIGHT
BEGIN:STANDARD
TZOFFSETFROM:+0200
TZOFFSETTO:+0100
TZNAME:CET
DTSTART:20231029T010000
END:STANDARD
BEGIN:DAYLIGHT
TZOFFSETFROM:+0100
TZOFFSETTO:+0200
TZNAME:CEST
DTSTART:20240331T010000
END:DAYLIGHT
BEGIN:STANDARD
TZOFFSETFROM:+0200
TZOFFSETTO:+0100
TZNAME:CET
DTSTART:20241027T010000
END:STANDARD
END:VTIMEZONE
BEGIN:VEVENT
DTSTART;TZID=Europe/Berlin:20230501T090000
DTEND;TZID=Europe/Berlin:20230501T170000
DTSTAMP:20260422T123936
CREATED:20230303T080605Z
LAST-MODIFIED:20230303T080605Z
UID:15393-1682931600-1682960400@www.ffw-dornstadt.de
SUMMARY:Familientag
DESCRIPTION:Familientag der Abteilung Dornstadt.
URL:https://www.ffw-dornstadt.de/termin/familientag/
LOCATION:Feuerwehrhaus Dornstadt\, St.-Florian-Weg 2\, Dornstadt\, 89160\, Deutschland
CATEGORIES:Intern
END:VEVENT
BEGIN:VEVENT
DTSTART;TZID=Europe/Berlin:20230505T200000
DTEND;TZID=Europe/Berlin:20230505T220000
DTSTAMP:20260422T123936
CREATED:20230111T090635Z
LAST-MODIFIED:20230111T090635Z
UID:15057-1683316800-1683324000@www.ffw-dornstadt.de
SUMMARY:Übung Gruppe 1
DESCRIPTION:Löschangriff / Vegetationsbrände
URL:https://www.ffw-dornstadt.de/termin/uebung-gruppe-1-3/
LOCATION:Feuerwehrhaus Dornstadt\, St.-Florian-Weg 2\, Dornstadt\, 89160\, Deutschland
CATEGORIES:Übung
END:VEVENT
BEGIN:VEVENT
DTSTART;TZID=Europe/Berlin:20230512T200000
DTEND;TZID=Europe/Berlin:20230512T220000
DTSTAMP:20260422T123936
CREATED:20230111T090621Z
LAST-MODIFIED:20230111T090621Z
UID:15061-1683921600-1683928800@www.ffw-dornstadt.de
SUMMARY:Übung Gruppe 2
DESCRIPTION:Löschangriff / Vegetationsbrände
URL:https://www.ffw-dornstadt.de/termin/uebung-gruppe-2-7/
LOCATION:Feuerwehrhaus Dornstadt\, St.-Florian-Weg 2\, Dornstadt\, 89160\, Deutschland
CATEGORIES:Übung
END:VEVENT
BEGIN:VEVENT
DTSTART;TZID=Europe/Berlin:20230519T200000
DTEND;TZID=Europe/Berlin:20230519T220000
DTSTAMP:20260422T123936
CREATED:20230111T090607Z
LAST-MODIFIED:20230111T090607Z
UID:15065-1684526400-1684533600@www.ffw-dornstadt.de
SUMMARY:Übung Gruppe 3
DESCRIPTION:Löschangriff / Vegetationsbrände
URL:https://www.ffw-dornstadt.de/termin/uebung-gruppe-3-9/
LOCATION:Feuerwehrhaus Dornstadt\, St.-Florian-Weg 2\, Dornstadt\, 89160\, Deutschland
CATEGORIES:Übung
END:VEVENT
BEGIN:VEVENT
DTSTART;TZID=Europe/Berlin:20230526T200000
DTEND;TZID=Europe/Berlin:20230526T220000
DTSTAMP:20260422T123936
CREATED:20230111T085038Z
LAST-MODIFIED:20230111T085052Z
UID:15069-1685131200-1685138400@www.ffw-dornstadt.de
SUMMARY:Übung Maschinisten
DESCRIPTION:Pumpen / Fahrzeugkunde / Autobahnzufahrten
URL:https://www.ffw-dornstadt.de/termin/uebung-maschinisten/
LOCATION:Feuerwehrhaus Dornstadt\, St.-Florian-Weg 2\, Dornstadt\, 89160\, Deutschland
CATEGORIES:Maschinisten,Übung
END:VEVENT
END:VCALENDAR