BEGIN:VCALENDAR
VERSION:2.0
PRODID:-//Freiwillige Feuerwehr Dornstadt - ECPv6.15.14//NONSGML v1.0//EN
CALSCALE:GREGORIAN
METHOD:PUBLISH
X-WR-CALNAME:Freiwillige Feuerwehr Dornstadt
X-ORIGINAL-URL:https://www.ffw-dornstadt.de
X-WR-CALDESC:Veranstaltungen für Freiwillige Feuerwehr Dornstadt
REFRESH-INTERVAL;VALUE=DURATION:PT1H
X-Robots-Tag:noindex
X-PUBLISHED-TTL:PT1H
BEGIN:VTIMEZONE
TZID:Europe/Berlin
BEGIN:DAYLIGHT
TZOFFSETFROM:+0100
TZOFFSETTO:+0200
TZNAME:CEST
DTSTART:20220327T010000
END:DAYLIGHT
BEGIN:STANDARD
TZOFFSETFROM:+0200
TZOFFSETTO:+0100
TZNAME:CET
DTSTART:20221030T010000
END:STANDARD
BEGIN:DAYLIGHT
TZOFFSETFROM:+0100
TZOFFSETTO:+0200
TZNAME:CEST
DTSTART:20230326T010000
END:DAYLIGHT
BEGIN:STANDARD
TZOFFSETFROM:+0200
TZOFFSETTO:+0100
TZNAME:CET
DTSTART:20231029T010000
END:STANDARD
BEGIN:DAYLIGHT
TZOFFSETFROM:+0100
TZOFFSETTO:+0200
TZNAME:CEST
DTSTART:20240331T010000
END:DAYLIGHT
BEGIN:STANDARD
TZOFFSETFROM:+0200
TZOFFSETTO:+0100
TZNAME:CET
DTSTART:20241027T010000
END:STANDARD
END:VTIMEZONE
BEGIN:VEVENT
DTSTART;TZID=Europe/Berlin:20230602T200000
DTEND;TZID=Europe/Berlin:20230602T220000
DTSTAMP:20260422T112325
CREATED:20230111T084738Z
LAST-MODIFIED:20230111T090152Z
UID:15073-1685736000-1685743200@www.ffw-dornstadt.de
SUMMARY:Übung Gruppe 1
DESCRIPTION:Gefahrgut / CSA / Not-Dekon
URL:https://www.ffw-dornstadt.de/termin/uebung-gruppe-1-8/
LOCATION:Feuerwehrhaus Dornstadt\, St.-Florian-Weg 2\, Dornstadt\, 89160\, Deutschland
CATEGORIES:Übung
END:VEVENT
BEGIN:VEVENT
DTSTART;TZID=Europe/Berlin:20230609T200000
DTEND;TZID=Europe/Berlin:20230609T220000
DTSTAMP:20260422T112325
CREATED:20230111T084738Z
LAST-MODIFIED:20230111T090136Z
UID:15077-1686340800-1686348000@www.ffw-dornstadt.de
SUMMARY:Übung Gruppe 2
DESCRIPTION:Gefahrgut / CSA / Not-Dekon
URL:https://www.ffw-dornstadt.de/termin/uebung-gruppe-2-5/
LOCATION:Feuerwehrhaus Dornstadt\, St.-Florian-Weg 2\, Dornstadt\, 89160\, Deutschland
CATEGORIES:Übung
END:VEVENT
BEGIN:VEVENT
DTSTART;TZID=Europe/Berlin:20230616T200000
DTEND;TZID=Europe/Berlin:20230616T220000
DTSTAMP:20260422T112325
CREATED:20230111T084738Z
LAST-MODIFIED:20230111T090112Z
UID:15081-1686945600-1686952800@www.ffw-dornstadt.de
SUMMARY:Übung Gruppe 3
DESCRIPTION:Gefahrgut / CSA / Not-Dekon
URL:https://www.ffw-dornstadt.de/termin/uebung-gruppe-3-8/
LOCATION:Feuerwehrhaus Dornstadt\, St.-Florian-Weg 2\, Dornstadt\, 89160\, Deutschland
CATEGORIES:Übung
END:VEVENT
BEGIN:VEVENT
DTSTART;TZID=Europe/Berlin:20230625T110000
DTEND;TZID=Europe/Berlin:20230625T180000
DTSTAMP:20260422T112325
CREATED:20230303T080506Z
LAST-MODIFIED:20230525T070239Z
UID:15385-1687690800-1687716000@www.ffw-dornstadt.de
SUMMARY:Brunnenfest
DESCRIPTION:Brunnenfest im Feuerwehrhaus Dornstadt
URL:https://www.ffw-dornstadt.de/termin/tag-der-offenen-tuer/
LOCATION:Feuerwehrhaus Dornstadt\, St.-Florian-Weg 2\, Dornstadt\, 89160\, Deutschland
CATEGORIES:Extern
ATTACH;FMTTYPE=image/jpeg:https://www.ffw-dornstadt.de/wp-content/uploads/inhalte/inhalte/neuigkeiten/2023_Brunnenfest.jpg
END:VEVENT
BEGIN:VEVENT
DTSTART;TZID=Europe/Berlin:20230630T200000
DTEND;TZID=Europe/Berlin:20230630T220000
DTSTAMP:20260422T112325
CREATED:20230111T090540Z
LAST-MODIFIED:20230314T133603Z
UID:15017-1688155200-1688162400@www.ffw-dornstadt.de
SUMMARY:Übung Gruppenführer
DESCRIPTION:Anfahrtswege Bahntrasse
URL:https://www.ffw-dornstadt.de/termin/uebung-gruppenfuehrer/
LOCATION:Feuerwehrhaus Dornstadt\, St.-Florian-Weg 2\, Dornstadt\, 89160\, Deutschland
CATEGORIES:Gruppenführer
END:VEVENT
END:VCALENDAR