BEGIN:VCALENDAR
VERSION:2.0
PRODID:-//Freiwillige Feuerwehr Dornstadt - ECPv6.15.14//NONSGML v1.0//EN
CALSCALE:GREGORIAN
METHOD:PUBLISH
X-WR-CALNAME:Freiwillige Feuerwehr Dornstadt
X-ORIGINAL-URL:https://www.ffw-dornstadt.de
X-WR-CALDESC:Veranstaltungen für Freiwillige Feuerwehr Dornstadt
REFRESH-INTERVAL;VALUE=DURATION:PT1H
X-Robots-Tag:noindex
X-PUBLISHED-TTL:PT1H
BEGIN:VTIMEZONE
TZID:Europe/Berlin
BEGIN:DAYLIGHT
TZOFFSETFROM:+0100
TZOFFSETTO:+0200
TZNAME:CEST
DTSTART:20220327T010000
END:DAYLIGHT
BEGIN:STANDARD
TZOFFSETFROM:+0200
TZOFFSETTO:+0100
TZNAME:CET
DTSTART:20221030T010000
END:STANDARD
BEGIN:DAYLIGHT
TZOFFSETFROM:+0100
TZOFFSETTO:+0200
TZNAME:CEST
DTSTART:20230326T010000
END:DAYLIGHT
BEGIN:STANDARD
TZOFFSETFROM:+0200
TZOFFSETTO:+0100
TZNAME:CET
DTSTART:20231029T010000
END:STANDARD
BEGIN:DAYLIGHT
TZOFFSETFROM:+0100
TZOFFSETTO:+0200
TZNAME:CEST
DTSTART:20240331T010000
END:DAYLIGHT
BEGIN:STANDARD
TZOFFSETFROM:+0200
TZOFFSETTO:+0100
TZNAME:CET
DTSTART:20241027T010000
END:STANDARD
END:VTIMEZONE
BEGIN:VEVENT
DTSTART;TZID=Europe/Berlin:20230707T200000
DTEND;TZID=Europe/Berlin:20230707T220000
DTSTAMP:20260422T102203
CREATED:20230111T084738Z
LAST-MODIFIED:20230111T090056Z
UID:15085-1688760000-1688767200@www.ffw-dornstadt.de
SUMMARY:Übung Gruppe 1
DESCRIPTION:Wasserrettung / Boot
URL:https://www.ffw-dornstadt.de/termin/uebung-gruppe-1-7/
LOCATION:Feuerwehrhaus Dornstadt\, St.-Florian-Weg 2\, Dornstadt\, 89160\, Deutschland
CATEGORIES:Übung
END:VEVENT
BEGIN:VEVENT
DTSTART;TZID=Europe/Berlin:20230714T200000
DTEND;TZID=Europe/Berlin:20230714T220000
DTSTAMP:20260422T102203
CREATED:20230111T084738Z
LAST-MODIFIED:20230111T090037Z
UID:15089-1689364800-1689372000@www.ffw-dornstadt.de
SUMMARY:Übung Gruppe 2
DESCRIPTION:Wasserrettung / Boot
URL:https://www.ffw-dornstadt.de/termin/uebung-gruppe-2-4/
LOCATION:Feuerwehrhaus Dornstadt\, St.-Florian-Weg 2\, Dornstadt\, 89160\, Deutschland
CATEGORIES:Übung
END:VEVENT
BEGIN:VEVENT
DTSTART;TZID=Europe/Berlin:20230721T200000
DTEND;TZID=Europe/Berlin:20230721T220000
DTSTAMP:20260422T102203
CREATED:20230111T084738Z
LAST-MODIFIED:20230111T090016Z
UID:15093-1689969600-1689976800@www.ffw-dornstadt.de
SUMMARY:Übung Gruppe 3
DESCRIPTION:Wasserrettung / Boot
URL:https://www.ffw-dornstadt.de/termin/uebung-gruppe-3-7/
LOCATION:Feuerwehrhaus Dornstadt\, St.-Florian-Weg 2\, Dornstadt\, 89160\, Deutschland
CATEGORIES:Übung
END:VEVENT
BEGIN:VEVENT
DTSTART;TZID=Europe/Berlin:20230728T200000
DTEND;TZID=Europe/Berlin:20230728T220000
DTSTAMP:20260422T102203
CREATED:20230111T084924Z
LAST-MODIFIED:20230111T084924Z
UID:15097-1690574400-1690581600@www.ffw-dornstadt.de
SUMMARY:Übung Alle Gruppen
DESCRIPTION:Fahrzeugpflege / Grillen
URL:https://www.ffw-dornstadt.de/termin/uebung-alle-gruppen/
LOCATION:Feuerwehrhaus Dornstadt\, St.-Florian-Weg 2\, Dornstadt\, 89160\, Deutschland
CATEGORIES:Zugübung
END:VEVENT
END:VCALENDAR