BEGIN:VCALENDAR
VERSION:2.0
PRODID:-//Freiwillige Feuerwehr Dornstadt - ECPv6.15.14//NONSGML v1.0//EN
CALSCALE:GREGORIAN
METHOD:PUBLISH
X-WR-CALNAME:Freiwillige Feuerwehr Dornstadt
X-ORIGINAL-URL:https://www.ffw-dornstadt.de
X-WR-CALDESC:Veranstaltungen für Freiwillige Feuerwehr Dornstadt
REFRESH-INTERVAL;VALUE=DURATION:PT1H
X-Robots-Tag:noindex
X-PUBLISHED-TTL:PT1H
BEGIN:VTIMEZONE
TZID:Europe/Berlin
BEGIN:DAYLIGHT
TZOFFSETFROM:+0100
TZOFFSETTO:+0200
TZNAME:CEST
DTSTART:20220327T010000
END:DAYLIGHT
BEGIN:STANDARD
TZOFFSETFROM:+0200
TZOFFSETTO:+0100
TZNAME:CET
DTSTART:20221030T010000
END:STANDARD
BEGIN:DAYLIGHT
TZOFFSETFROM:+0100
TZOFFSETTO:+0200
TZNAME:CEST
DTSTART:20230326T010000
END:DAYLIGHT
BEGIN:STANDARD
TZOFFSETFROM:+0200
TZOFFSETTO:+0100
TZNAME:CET
DTSTART:20231029T010000
END:STANDARD
BEGIN:DAYLIGHT
TZOFFSETFROM:+0100
TZOFFSETTO:+0200
TZNAME:CEST
DTSTART:20240331T010000
END:DAYLIGHT
BEGIN:STANDARD
TZOFFSETFROM:+0200
TZOFFSETTO:+0100
TZNAME:CET
DTSTART:20241027T010000
END:STANDARD
END:VTIMEZONE
BEGIN:VEVENT
DTSTART;TZID=Europe/Berlin:20231006T200000
DTEND;TZID=Europe/Berlin:20231006T220000
DTSTAMP:20260422T152146
CREATED:20230111T084738Z
LAST-MODIFIED:20230111T085444Z
UID:15113-1696622400-1696629600@www.ffw-dornstadt.de
SUMMARY:Übung Gruppe 1
DESCRIPTION:THL Verkehrsunfall
URL:https://www.ffw-dornstadt.de/termin/uebung-gruppe-1-5/
LOCATION:Feuerwehrhaus Dornstadt\, St.-Florian-Weg 2\, Dornstadt\, 89160\, Deutschland
CATEGORIES:Übung
END:VEVENT
BEGIN:VEVENT
DTSTART;TZID=Europe/Berlin:20231013T200000
DTEND;TZID=Europe/Berlin:20231013T220000
DTSTAMP:20260422T152146
CREATED:20230111T084738Z
LAST-MODIFIED:20230111T085420Z
UID:15117-1697227200-1697234400@www.ffw-dornstadt.de
SUMMARY:Übung Gruppe 2
DESCRIPTION:THL Verkehrsunfall
URL:https://www.ffw-dornstadt.de/termin/uebung-gruppe-2-2/
LOCATION:Feuerwehrhaus Dornstadt\, St.-Florian-Weg 2\, Dornstadt\, 89160\, Deutschland
CATEGORIES:Übung
END:VEVENT
BEGIN:VEVENT
DTSTART;TZID=Europe/Berlin:20231020T200000
DTEND;TZID=Europe/Berlin:20231020T220000
DTSTAMP:20260422T152146
CREATED:20230111T084506Z
LAST-MODIFIED:20230111T084811Z
UID:15121-1697832000-1697839200@www.ffw-dornstadt.de
SUMMARY:Übung Gruppe 3
DESCRIPTION:THL Verkehrsunfall
URL:https://www.ffw-dornstadt.de/termin/uebung-gruppe-3-5/
LOCATION:Feuerwehrhaus Dornstadt\, St.-Florian-Weg 2\, Dornstadt\, 89160\, Deutschland
CATEGORIES:Übung
END:VEVENT
BEGIN:VEVENT
DTSTART;TZID=Europe/Berlin:20231027T200000
DTEND;TZID=Europe/Berlin:20231027T220000
DTSTAMP:20260422T152146
CREATED:20230111T084605Z
LAST-MODIFIED:20231022T113514Z
UID:15125-1698436800-1698444000@www.ffw-dornstadt.de
SUMMARY:Funkübung
DESCRIPTION:Funkübung
URL:https://www.ffw-dornstadt.de/termin/funkuebung/
LOCATION:Feuerwehrhaus Dornstadt\, St.-Florian-Weg 2\, Dornstadt\, 89160\, Deutschland
CATEGORIES:Zugübung
END:VEVENT
END:VCALENDAR