BEGIN:VCALENDAR
VERSION:2.0
PRODID:-//Freiwillige Feuerwehr Dornstadt - ECPv6.15.14//NONSGML v1.0//EN
CALSCALE:GREGORIAN
METHOD:PUBLISH
X-WR-CALNAME:Freiwillige Feuerwehr Dornstadt
X-ORIGINAL-URL:https://www.ffw-dornstadt.de
X-WR-CALDESC:Veranstaltungen für Freiwillige Feuerwehr Dornstadt
REFRESH-INTERVAL;VALUE=DURATION:PT1H
X-Robots-Tag:noindex
X-PUBLISHED-TTL:PT1H
BEGIN:VTIMEZONE
TZID:Europe/Berlin
BEGIN:DAYLIGHT
TZOFFSETFROM:+0100
TZOFFSETTO:+0200
TZNAME:CEST
DTSTART:20230326T010000
END:DAYLIGHT
BEGIN:STANDARD
TZOFFSETFROM:+0200
TZOFFSETTO:+0100
TZNAME:CET
DTSTART:20231029T010000
END:STANDARD
BEGIN:DAYLIGHT
TZOFFSETFROM:+0100
TZOFFSETTO:+0200
TZNAME:CEST
DTSTART:20240331T010000
END:DAYLIGHT
BEGIN:STANDARD
TZOFFSETFROM:+0200
TZOFFSETTO:+0100
TZNAME:CET
DTSTART:20241027T010000
END:STANDARD
BEGIN:DAYLIGHT
TZOFFSETFROM:+0100
TZOFFSETTO:+0200
TZNAME:CEST
DTSTART:20250330T010000
END:DAYLIGHT
BEGIN:STANDARD
TZOFFSETFROM:+0200
TZOFFSETTO:+0100
TZNAME:CET
DTSTART:20251026T010000
END:STANDARD
END:VTIMEZONE
BEGIN:VEVENT
DTSTART;TZID=Europe/Berlin:20240105T200000
DTEND;TZID=Europe/Berlin:20240105T200000
DTSTAMP:20260422T020945
CREATED:20231230T130726Z
LAST-MODIFIED:20231230T131912Z
UID:16489-1704484800-1704484800@www.ffw-dornstadt.de
SUMMARY:Übung Gruppe 1
DESCRIPTION:Knoten/Gerätekunde/UVV
URL:https://www.ffw-dornstadt.de/termin/gruppe-1/
LOCATION:Feuerwehrhaus Dornstadt\, St.-Florian-Weg 2\, Dornstadt\, 89160\, Deutschland
CATEGORIES:Übung
END:VEVENT
BEGIN:VEVENT
DTSTART;TZID=Europe/Berlin:20240112T200000
DTEND;TZID=Europe/Berlin:20240112T200000
DTSTAMP:20260422T020945
CREATED:20231230T130726Z
LAST-MODIFIED:20231230T131938Z
UID:16493-1705089600-1705089600@www.ffw-dornstadt.de
SUMMARY:Übung Gruppe 2
DESCRIPTION:Knoten/Gerätekunde/UVV
URL:https://www.ffw-dornstadt.de/termin/gruppe-2/
LOCATION:Feuerwehrhaus Dornstadt\, St.-Florian-Weg 2\, Dornstadt\, 89160\, Deutschland
CATEGORIES:Übung
END:VEVENT
BEGIN:VEVENT
DTSTART;TZID=Europe/Berlin:20240119T193000
DTEND;TZID=Europe/Berlin:20240119T220000
DTSTAMP:20260422T020945
CREATED:20231230T125352Z
LAST-MODIFIED:20231230T125352Z
UID:16465-1705692600-1705701600@www.ffw-dornstadt.de
SUMMARY:Hauptversammlung der Abteilung Dornstadt
DESCRIPTION:Hauptversammlung der Abteilung Dornstadt
URL:https://www.ffw-dornstadt.de/termin/hauptversammlung-der-abteilung-dornstadt/
LOCATION:Feuerwehrhaus Dornstadt\, St.-Florian-Weg 2\, Dornstadt\, 89160\, Deutschland
CATEGORIES:Versammlung
END:VEVENT
BEGIN:VEVENT
DTSTART;TZID=Europe/Berlin:20240126T200000
DTEND;TZID=Europe/Berlin:20240126T200000
DTSTAMP:20260422T020945
CREATED:20231230T130726Z
LAST-MODIFIED:20231230T131841Z
UID:16497-1706299200-1706299200@www.ffw-dornstadt.de
SUMMARY:Übung Gruppe 3
DESCRIPTION:Knoten/Gerätekunde/UVV
URL:https://www.ffw-dornstadt.de/termin/gruppe-3/
LOCATION:Feuerwehrhaus Dornstadt\, St.-Florian-Weg 2\, Dornstadt\, 89160\, Deutschland
CATEGORIES:Übung
END:VEVENT
END:VCALENDAR