BEGIN:VCALENDAR
VERSION:2.0
PRODID:-//Freiwillige Feuerwehr Dornstadt - ECPv6.15.14//NONSGML v1.0//EN
CALSCALE:GREGORIAN
METHOD:PUBLISH
X-ORIGINAL-URL:https://www.ffw-dornstadt.de
X-WR-CALDESC:Veranstaltungen für Freiwillige Feuerwehr Dornstadt
REFRESH-INTERVAL;VALUE=DURATION:PT1H
X-Robots-Tag:noindex
X-PUBLISHED-TTL:PT1H
BEGIN:VTIMEZONE
TZID:Europe/Berlin
BEGIN:DAYLIGHT
TZOFFSETFROM:+0100
TZOFFSETTO:+0200
TZNAME:CEST
DTSTART:20230326T010000
END:DAYLIGHT
BEGIN:STANDARD
TZOFFSETFROM:+0200
TZOFFSETTO:+0100
TZNAME:CET
DTSTART:20231029T010000
END:STANDARD
BEGIN:DAYLIGHT
TZOFFSETFROM:+0100
TZOFFSETTO:+0200
TZNAME:CEST
DTSTART:20240331T010000
END:DAYLIGHT
BEGIN:STANDARD
TZOFFSETFROM:+0200
TZOFFSETTO:+0100
TZNAME:CET
DTSTART:20241027T010000
END:STANDARD
BEGIN:DAYLIGHT
TZOFFSETFROM:+0100
TZOFFSETTO:+0200
TZNAME:CEST
DTSTART:20250330T010000
END:DAYLIGHT
BEGIN:STANDARD
TZOFFSETFROM:+0200
TZOFFSETTO:+0100
TZNAME:CET
DTSTART:20251026T010000
END:STANDARD
END:VTIMEZONE
BEGIN:VEVENT
DTSTART;TZID=Europe/Berlin:20240202T200000
DTEND;TZID=Europe/Berlin:20240202T200000
DTSTAMP:20260422T004638
CREATED:20231230T130726Z
LAST-MODIFIED:20231230T132117Z
UID:16501-1706904000-1706904000@www.ffw-dornstadt.de
SUMMARY:Übung Gruppe 1
DESCRIPTION:Löschangriff/Atemschutznotfall/BMA
URL:https://www.ffw-dornstadt.de/termin/gruppe-1-2/
LOCATION:Feuerwehrhaus Dornstadt\, St.-Florian-Weg 2\, Dornstadt\, 89160\, Deutschland
CATEGORIES:Übung
END:VEVENT
BEGIN:VEVENT
DTSTART;TZID=Europe/Berlin:20240209T200000
DTEND;TZID=Europe/Berlin:20240209T200000
DTSTAMP:20260422T004638
CREATED:20231230T130726Z
LAST-MODIFIED:20231230T132142Z
UID:16505-1707508800-1707508800@www.ffw-dornstadt.de
SUMMARY:Übung Gruppe 2
DESCRIPTION:Löschangriff/Atemschutznotfall/BMA
URL:https://www.ffw-dornstadt.de/termin/gruppe-2-2/
LOCATION:Feuerwehrhaus Dornstadt\, St.-Florian-Weg 2\, Dornstadt\, 89160\, Deutschland
CATEGORIES:Übung
END:VEVENT
BEGIN:VEVENT
DTSTART;TZID=Europe/Berlin:20240216T200000
DTEND;TZID=Europe/Berlin:20240216T200000
DTSTAMP:20260422T004638
CREATED:20231230T130727Z
LAST-MODIFIED:20231230T132152Z
UID:16509-1708113600-1708113600@www.ffw-dornstadt.de
SUMMARY:Übung Gruppe 3
DESCRIPTION:Löschangriff/Atemschutznotfall/BMA
URL:https://www.ffw-dornstadt.de/termin/gruppe-3-2/
LOCATION:Feuerwehrhaus Dornstadt\, St.-Florian-Weg 2\, Dornstadt\, 89160\, Deutschland
CATEGORIES:Übung
END:VEVENT
BEGIN:VEVENT
DTSTART;TZID=Europe/Berlin:20240223T200000
DTEND;TZID=Europe/Berlin:20240223T200000
DTSTAMP:20260422T004638
CREATED:20231230T130727Z
LAST-MODIFIED:20240216T124101Z
UID:16513-1708718400-1708718400@www.ffw-dornstadt.de
SUMMARY:Zugübung
DESCRIPTION:Funkübung
URL:https://www.ffw-dornstadt.de/termin/zug%c2%81uebung/
LOCATION:Feuerwehrhaus Dornstadt\, St.-Florian-Weg 2\, Dornstadt\, 89160\, Deutschland
CATEGORIES:Zugübung
END:VEVENT
END:VCALENDAR