BEGIN:VCALENDAR
VERSION:2.0
PRODID:-//Freiwillige Feuerwehr Dornstadt - ECPv6.15.14//NONSGML v1.0//EN
CALSCALE:GREGORIAN
METHOD:PUBLISH
X-WR-CALNAME:Freiwillige Feuerwehr Dornstadt
X-ORIGINAL-URL:https://www.ffw-dornstadt.de
X-WR-CALDESC:Veranstaltungen für Freiwillige Feuerwehr Dornstadt
REFRESH-INTERVAL;VALUE=DURATION:PT1H
X-Robots-Tag:noindex
X-PUBLISHED-TTL:PT1H
BEGIN:VTIMEZONE
TZID:Europe/Berlin
BEGIN:DAYLIGHT
TZOFFSETFROM:+0100
TZOFFSETTO:+0200
TZNAME:CEST
DTSTART:20230326T010000
END:DAYLIGHT
BEGIN:STANDARD
TZOFFSETFROM:+0200
TZOFFSETTO:+0100
TZNAME:CET
DTSTART:20231029T010000
END:STANDARD
BEGIN:DAYLIGHT
TZOFFSETFROM:+0100
TZOFFSETTO:+0200
TZNAME:CEST
DTSTART:20240331T010000
END:DAYLIGHT
BEGIN:STANDARD
TZOFFSETFROM:+0200
TZOFFSETTO:+0100
TZNAME:CET
DTSTART:20241027T010000
END:STANDARD
BEGIN:DAYLIGHT
TZOFFSETFROM:+0100
TZOFFSETTO:+0200
TZNAME:CEST
DTSTART:20250330T010000
END:DAYLIGHT
BEGIN:STANDARD
TZOFFSETFROM:+0200
TZOFFSETTO:+0100
TZNAME:CET
DTSTART:20251026T010000
END:STANDARD
END:VTIMEZONE
BEGIN:VEVENT
DTSTART;TZID=Europe/Berlin:20240705T200000
DTEND;TZID=Europe/Berlin:20240705T200000
DTSTAMP:20260421T182016
CREATED:20231230T130807Z
LAST-MODIFIED:20231230T132002Z
UID:16585-1720209600-1720209600@www.ffw-dornstadt.de
SUMMARY:Übung Gruppe 1
DESCRIPTION:Wasserrettung/Boot
URL:https://www.ffw-dornstadt.de/termin/gruppe-1-7/
LOCATION:Feuerwehrhaus Dornstadt\, St.-Florian-Weg 2\, Dornstadt\, 89160\, Deutschland
CATEGORIES:Übung
END:VEVENT
BEGIN:VEVENT
DTSTART;TZID=Europe/Berlin:20240712T200000
DTEND;TZID=Europe/Berlin:20240712T200000
DTSTAMP:20260421T182016
CREATED:20231230T130807Z
LAST-MODIFIED:20231230T132002Z
UID:16589-1720814400-1720814400@www.ffw-dornstadt.de
SUMMARY:Übung Gruppe 2
DESCRIPTION:Wasserrettung/Boot
URL:https://www.ffw-dornstadt.de/termin/gruppe-2-7/
LOCATION:Feuerwehrhaus Dornstadt\, St.-Florian-Weg 2\, Dornstadt\, 89160\, Deutschland
CATEGORIES:Übung
END:VEVENT
BEGIN:VEVENT
DTSTART;TZID=Europe/Berlin:20240719T200000
DTEND;TZID=Europe/Berlin:20240719T200000
DTSTAMP:20260421T182016
CREATED:20231230T130853Z
LAST-MODIFIED:20231230T132002Z
UID:16597-1721419200-1721419200@www.ffw-dornstadt.de
SUMMARY:Übung Gruppe 3
DESCRIPTION:Wasserrettung/Boot
URL:https://www.ffw-dornstadt.de/termin/gruppe-3-7/
LOCATION:Feuerwehrhaus Dornstadt\, St.-Florian-Weg 2\, Dornstadt\, 89160\, Deutschland
CATEGORIES:Übung
END:VEVENT
BEGIN:VEVENT
DTSTART;TZID=Europe/Berlin:20240726T200000
DTEND;TZID=Europe/Berlin:20240726T200000
DTSTAMP:20260421T182016
CREATED:20231230T130854Z
LAST-MODIFIED:20231230T131414Z
UID:16601-1722024000-1722024000@www.ffw-dornstadt.de
SUMMARY:Fahrzeugpflege / Grillen
DESCRIPTION:Fahrzeugpflege / Grillen
URL:https://www.ffw-dornstadt.de/termin/fahrzeugpflege-grillen/
LOCATION:Feuerwehrhaus Dornstadt\, St.-Florian-Weg 2\, Dornstadt\, 89160\, Deutschland
CATEGORIES:Übung
END:VEVENT
END:VCALENDAR