BEGIN:VCALENDAR
VERSION:2.0
PRODID:-//Freiwillige Feuerwehr Dornstadt - ECPv6.15.14//NONSGML v1.0//EN
CALSCALE:GREGORIAN
METHOD:PUBLISH
X-WR-CALNAME:Freiwillige Feuerwehr Dornstadt
X-ORIGINAL-URL:https://www.ffw-dornstadt.de
X-WR-CALDESC:Veranstaltungen für Freiwillige Feuerwehr Dornstadt
REFRESH-INTERVAL;VALUE=DURATION:PT1H
X-Robots-Tag:noindex
X-PUBLISHED-TTL:PT1H
BEGIN:VTIMEZONE
TZID:Europe/Berlin
BEGIN:DAYLIGHT
TZOFFSETFROM:+0100
TZOFFSETTO:+0200
TZNAME:CEST
DTSTART:20250330T010000
END:DAYLIGHT
BEGIN:STANDARD
TZOFFSETFROM:+0200
TZOFFSETTO:+0100
TZNAME:CET
DTSTART:20251026T010000
END:STANDARD
BEGIN:DAYLIGHT
TZOFFSETFROM:+0100
TZOFFSETTO:+0200
TZNAME:CEST
DTSTART:20260329T010000
END:DAYLIGHT
BEGIN:STANDARD
TZOFFSETFROM:+0200
TZOFFSETTO:+0100
TZNAME:CET
DTSTART:20261025T010000
END:STANDARD
BEGIN:DAYLIGHT
TZOFFSETFROM:+0100
TZOFFSETTO:+0200
TZNAME:CEST
DTSTART:20270328T010000
END:DAYLIGHT
BEGIN:STANDARD
TZOFFSETFROM:+0200
TZOFFSETTO:+0100
TZNAME:CET
DTSTART:20271031T010000
END:STANDARD
END:VTIMEZONE
BEGIN:VEVENT
DTSTART;TZID=Europe/Berlin:20260612T200000
DTEND;TZID=Europe/Berlin:20260612T200000
DTSTAMP:20260421T114428
CREATED:20251211T102441Z
LAST-MODIFIED:20251211T102441Z
UID:17765-1781294400-1781294400@www.ffw-dornstadt.de
SUMMARY:Übung 1
DESCRIPTION:Löscheinsatz / Gruppe und Staffel
URL:https://www.ffw-dornstadt.de/termin/uebung-1-17/
LOCATION:Feuerwehrhaus Dornstadt\, St.-Florian-Weg 2\, Dornstadt\, 89160\, Deutschland
CATEGORIES:Übung
END:VEVENT
BEGIN:VEVENT
DTSTART;TZID=Europe/Berlin:20260614T110000
DTEND;TZID=Europe/Berlin:20260614T180000
DTSTAMP:20260421T114428
CREATED:20251211T101950Z
LAST-MODIFIED:20251211T101950Z
UID:17901-1781434800-1781460000@www.ffw-dornstadt.de
SUMMARY:Brunnenfest
DESCRIPTION:Brunnenfest der Abteilung Dornstadt.
URL:https://www.ffw-dornstadt.de/termin/brunnenfest-3/
LOCATION:Feuerwehrhaus Dornstadt\, St.-Florian-Weg 2\, Dornstadt\, 89160\, Deutschland
CATEGORIES:Extern
END:VEVENT
BEGIN:VEVENT
DTSTART;TZID=Europe/Berlin:20260619T200000
DTEND;TZID=Europe/Berlin:20260619T200000
DTSTAMP:20260421T114428
CREATED:20251211T102526Z
LAST-MODIFIED:20251211T102526Z
UID:17789-1781899200-1781899200@www.ffw-dornstadt.de
SUMMARY:Übung 2
DESCRIPTION:Löscheinsatz / Gruppe und Staffel
URL:https://www.ffw-dornstadt.de/termin/uebung-2-18/
LOCATION:Feuerwehrhaus Dornstadt\, St.-Florian-Weg 2\, Dornstadt\, 89160\, Deutschland
CATEGORIES:Übung
END:VEVENT
BEGIN:VEVENT
DTSTART;TZID=Europe/Berlin:20260626T200000
DTEND;TZID=Europe/Berlin:20260626T200000
DTSTAMP:20260421T114428
CREATED:20251211T100940Z
LAST-MODIFIED:20251211T100940Z
UID:17793-1782504000-1782504000@www.ffw-dornstadt.de
SUMMARY:Übung Maschinisten
DESCRIPTION:Übung für Maschinisten
URL:https://www.ffw-dornstadt.de/termin/uebung-maschinisten-3/
LOCATION:Feuerwehrhaus Dornstadt\, St.-Florian-Weg 2\, Dornstadt\, 89160\, Deutschland
CATEGORIES:Übung
END:VEVENT
END:VCALENDAR