BEGIN:VCALENDAR
VERSION:2.0
PRODID:-//Freiwillige Feuerwehr Dornstadt - ECPv6.15.14//NONSGML v1.0//EN
CALSCALE:GREGORIAN
METHOD:PUBLISH
X-ORIGINAL-URL:https://www.ffw-dornstadt.de
X-WR-CALDESC:Veranstaltungen für Freiwillige Feuerwehr Dornstadt
REFRESH-INTERVAL;VALUE=DURATION:PT1H
X-Robots-Tag:noindex
X-PUBLISHED-TTL:PT1H
BEGIN:VTIMEZONE
TZID:Europe/Berlin
BEGIN:DAYLIGHT
TZOFFSETFROM:+0100
TZOFFSETTO:+0200
TZNAME:CEST
DTSTART:20220327T010000
END:DAYLIGHT
BEGIN:STANDARD
TZOFFSETFROM:+0200
TZOFFSETTO:+0100
TZNAME:CET
DTSTART:20221030T010000
END:STANDARD
BEGIN:DAYLIGHT
TZOFFSETFROM:+0100
TZOFFSETTO:+0200
TZNAME:CEST
DTSTART:20230326T010000
END:DAYLIGHT
BEGIN:STANDARD
TZOFFSETFROM:+0200
TZOFFSETTO:+0100
TZNAME:CET
DTSTART:20231029T010000
END:STANDARD
BEGIN:DAYLIGHT
TZOFFSETFROM:+0100
TZOFFSETTO:+0200
TZNAME:CEST
DTSTART:20240331T010000
END:DAYLIGHT
BEGIN:STANDARD
TZOFFSETFROM:+0200
TZOFFSETTO:+0100
TZNAME:CET
DTSTART:20241027T010000
END:STANDARD
END:VTIMEZONE
BEGIN:VEVENT
DTSTART;TZID=Europe/Berlin:20230127T193000
DTEND;TZID=Europe/Berlin:20230127T213000
DTSTAMP:20260423T000245
CREATED:20221215T114800Z
LAST-MODIFIED:20230104T130121Z
UID:14493-1674847800-1674855000@www.ffw-dornstadt.de
SUMMARY:Abteilungsversammlung Dornstadt
DESCRIPTION:Die Abteilungsversammlung der Abteilung Dornstadt findet am 27.01.2023 um 19:30 Uhr im Feuerwehrhaus in Dornstadt statt. \nHierzu lade ich alle Mitglieder der Abteilung Dornstadt ein. \nTagesordnung: \n\nBericht des Abteilungskommandanten\nBericht des Jugendgruppenleiters\nBericht des Kassierers\nBericht der Kassenprüfer\nBeschlussfassung über den Rechnungsabschluss\nAnträge\nSonstiges\n\nAnträge zur Abteilungsversammlung sind bis zum 24.01.2023 beim Abteilungskommandanten schriftlich einzureichen. \nReiner Mieroff\, Abteilungskommandant \n 
URL:https://www.ffw-dornstadt.de/termin/abteilungshauptversammlung-dornstadt/
LOCATION:Feuerwehrhaus Dornstadt\, St.-Florian-Weg 2\, Dornstadt\, 89160\, Deutschland
CATEGORIES:Versammlung
END:VEVENT
END:VCALENDAR